BEGIN:VCALENDAR
VERSION:2.0
PRODID:-//Komprame//Eventos//ES
BEGIN:VEVENT
UID:evento-2@www.komprame.mx-0
DTSTAMP:20260421T085107Z
DTSTART:20260418T050000Z
DTEND:20260417T190000Z
SUMMARY:Carín León
DESCRIPTION:&lt\\;p&gt\\;Vive la inauguraci&amp\\;oacute\\;n del &lt\\;strong&gt\\;Palenque&lt\\;/strong&gt\\; de la &lt\\;strong&gt\\;Feria Nacional de San Marcos 2026 &lt\\;/strong&gt\\;con el &amp\\;iacute\\;dolo del regional mexicano\\, &lt\\;strong&gt\\;Car&amp\\;iacute\\;n Le&amp\\;oacute\\;n&lt\\;/strong&gt\\;! El 17 y 18 de abril\\, este sonorense prender&amp\\;aacute\\; fuego al escenario con su voz &amp\\;uacute\\;nica\\, fusi&amp\\;oacute\\;n de banda y mariachi\\, y &amp\\;eacute\\;xitos como &quot\\;Primera Cita&quot\\;\\, &quot\\;Seg&amp\\;uacute\\;n Qui&amp\\;eacute\\;n&quot\\; y &quot\\;El Amor es una Farsa&quot\\;.&lt\\;/p&gt\\;
LOCATION:Palenque de la Feria Nacional de San Marcos Esq\\, Nieto 516\\, Barrio de San Marcos\\, 20070 Aguascalientes\\, Ags.
END:VEVENT
BEGIN:VEVENT
UID:evento-2@www.komprame.mx-1
DTSTAMP:20260421T085107Z
DTSTART:20260419T050000Z
DTEND:20260418T190000Z
SUMMARY:Carín León
DESCRIPTION:&lt\\;p&gt\\;Vive la inauguraci&amp\\;oacute\\;n del &lt\\;strong&gt\\;Palenque&lt\\;/strong&gt\\; de la &lt\\;strong&gt\\;Feria Nacional de San Marcos 2026 &lt\\;/strong&gt\\;con el &amp\\;iacute\\;dolo del regional mexicano\\, &lt\\;strong&gt\\;Car&amp\\;iacute\\;n Le&amp\\;oacute\\;n&lt\\;/strong&gt\\;! El 17 y 18 de abril\\, este sonorense prender&amp\\;aacute\\; fuego al escenario con su voz &amp\\;uacute\\;nica\\, fusi&amp\\;oacute\\;n de banda y mariachi\\, y &amp\\;eacute\\;xitos como &quot\\;Primera Cita&quot\\;\\, &quot\\;Seg&amp\\;uacute\\;n Qui&amp\\;eacute\\;n&quot\\; y &quot\\;El Amor es una Farsa&quot\\;.&lt\\;/p&gt\\;
LOCATION:Palenque de la Feria Nacional de San Marcos Esq\\, Nieto 516\\, Barrio de San Marcos\\, 20070 Aguascalientes\\, Ags.
END:VEVENT
END:VCALENDAR