BEGIN:VCALENDAR
VERSION:2.0
PRODID:-//Komprame//Eventos//ES
BEGIN:VEVENT
UID:evento-96@www.komprame.mx-0
DTSTAMP:20260420T092837Z
DTSTART:20260511T030000Z
DTEND:20260511T050000Z
SUMMARY:Empire of the Sun
DESCRIPTION:&lt\\;p&gt\\;Concierto en la Feria Nacional de San Marcos 2026 con Empire of the Sun\\, banda reconocida por su m&amp\\;uacute\\;sica electr&amp\\;oacute\\;nica y pop experimental.&lt\\;/p&gt\\;
LOCATION:Foro de las Estrellas 20220\\, Lienzo Charro 107\\, Las Flores\\, 20220 Aguascalientes\\, Ags.
END:VEVENT
END:VCALENDAR