BEGIN:VCALENDAR
VERSION:2.0
PRODID:-//Komprame//Eventos//ES
BEGIN:VEVENT
UID:evento-93@www.komprame.mx-0
DTSTAMP:20260420T091059Z
DTSTART:20260508T030000Z
DTEND:20260508T050000Z
SUMMARY:Lila Downs
DESCRIPTION:&lt\\;p&gt\\;Concierto en la Feria Nacional de San Marcos 2026 con Lila Downs\\, reconocida cantante de m&amp\\;uacute\\;sica fusi&amp\\;oacute\\;n y tradicional mexicana.&lt\\;/p&gt\\;
LOCATION:Foro de las Estrellas 20220\\, Lienzo Charro 107\\, Las Flores\\, 20220 Aguascalientes\\, Ags.
END:VEVENT
END:VCALENDAR