BEGIN:VCALENDAR
VERSION:2.0
PRODID:-//Komprame//Eventos//ES
BEGIN:VEVENT
UID:evento-51@www.komprame.mx-0
DTSTAMP:20260420T092837Z
DTSTART:20260509T010000Z
DTEND:20260509T050000Z
SUMMARY:Los terrícolas de néstor daniel
DESCRIPTION:Concierto los terrícolas de néstor daniel en foro del lago. Gratuito.
LOCATION:Foro del Lago Av. Lic. Adolfo López Mateos Pte. 601\\, Desarrollo Especial Zona de la Feria\\, 20220 Aguascalientes\\, Ags.
END:VEVENT
END:VCALENDAR